BEGIN:VCALENDAR
VERSION:2.0
PRODID:icalendar-ruby
CALSCALE:GREGORIAN
BEGIN:VEVENT
DTSTAMP:20260424T041447Z
UID:d3daf3f7-9194-4d5a-9067-94c48288532e
DTSTART;TZID=Eastern Time (US & Canada):20260517T110000
DTEND;TZID=Eastern Time (US & Canada):20260517T170000
DESCRIPTION:The Royal Thai Consulate General in New York\, in partnership w
 ith Thai Theatre Foundation\, proudly presents “Thai Next 2026: When the
  Seeds Bloom”\, one of NYC’s largest multidisciplinary Thai arts fairs
  to be held on Sunday\, May 17\, 2026\, at The Foundry LIC\, 42-38 9th St\
 , Long Island City\, New York. Public admission hours run from 11:00 AM to
  5:00 PM\, followed by an Evening Reception from 6:30 to 8:30 PM (Invitati
 on Only).\n
LOCATION:Foundry LIC \n42-38 9th St\, \nLong Island City\, NY 11101
SUMMARY:Thai Next 2026: When the Seeds Bloom
URL:https://www.aaartsalliance.org/events/thai-next-2026-when-the-seeds-blo
 om
END:VEVENT
END:VCALENDAR
