BEGIN:VCALENDAR
VERSION:2.0
PRODID:icalendar-ruby
CALSCALE:GREGORIAN
BEGIN:VEVENT
DTSTAMP:20260423T003949Z
UID:dc4ccf18-7f56-4083-bf0b-680b702549c4
DTSTART;TZID=Eastern Time (US & Canada):20260524T190000
DTEND;TZID=Eastern Time (US & Canada):20260524T203000
DESCRIPTION:Shoes Off: All Asian Improv Comedy is turning 2 years old! This
  AANHPI Month\, join this birthday celebration at The Rat NYC in DUMBO\, B
 rooklyn.\n
LOCATION:The Rat NYC\n68–117 Jay Street\nBrooklyn\, NY 11201
SUMMARY:🎉 👠 Shoes Off: Two Much Fun 👠 🎉
URL:https://www.aaartsalliance.org/events/shoes-off-two-much-fun
END:VEVENT
END:VCALENDAR
