BEGIN:VCALENDAR
VERSION:2.0
PRODID:icalendar-ruby
CALSCALE:GREGORIAN
BEGIN:VEVENT
DTSTAMP:20260424T050525Z
UID:9524398b-89d3-4f1c-9500-c5fad12fffd0
DTSTART;TZID=Eastern Time (US & Canada):20260501T000000
DTEND;TZID=Eastern Time (US & Canada):20260528T000000
DESCRIPTION:Resonance is the quality in a sound of being deep\, full\, and 
 reverberating. When Svetvilas reflects on her memories of bipolar mania an
 d past hospitalizations\, news stories of family members throughout the Un
 ited States calling 911\, desperately seeking help for their loved ones\, 
 resonate. Through a series of charcoal-text drawings on lined paper\, her 
 experiences in the mental healthcare system are revealed as pithy synopses
  and smeared with fingerprints and resist a sterile and clinical perspecti
 ve. Materials such as charcoal and prescription bottles\, a part of Svetvi
 las' lived mental health difference\, inform her work.\n
LOCATION:coLAB Arts Studios\n6 Kirkpatrick Street\nNew Brunswick\, NJ 08901
SUMMARY:Resonance: solo exhibition by Chanika Svetvilas
URL:https://www.aaartsalliance.org/events/resonance-solo-exhibition-by-chan
 ika-svetvilas
END:VEVENT
END:VCALENDAR
