BEGIN:VCALENDAR
VERSION:2.0
PRODID:icalendar-ruby
CALSCALE:GREGORIAN
BEGIN:VEVENT
DTSTAMP:20260424T093909Z
UID:34ff2796-0436-4e42-8d7f-d60ab06c9557
DTSTART;TZID=Eastern Time (US & Canada):20260506T173000
DTEND;TZID=Eastern Time (US & Canada):20260506T193000
DESCRIPTION:Join MPL for the kick-off of *Our Journeys*\, a traveling exhib
 it presented by the Vietnamese Boat People with an opening reception.\n
LOCATION:Montclair Public Library\n50 South Fullerton Avenue\nMontclair\, N
 J 07042
SUMMARY: Our Journeys Opening Reception
URL:https://www.aaartsalliance.org/events/our-journeys-opening-reception
END:VEVENT
END:VCALENDAR
