BEGIN:VCALENDAR
VERSION:2.0
PRODID:icalendar-ruby
CALSCALE:GREGORIAN
BEGIN:VEVENT
DTSTAMP:20260424T033617Z
UID:eb145c3a-0e3f-4431-b078-45d941dec765
DTSTART;TZID=Eastern Time (US & Canada):20260506T000000
DTEND;TZID=Eastern Time (US & Canada):20260606T000000
DESCRIPTION:Celebrate AAPI Heritage Month with *Our Journeys*\, a powerful 
 multimedia exhibition created by the Vietnamese Boat People nonprofit orga
 nization (VBP)\, on view from May 6 to June 6 during library public hours.
 \n
LOCATION:Montclair Public Library\n50 South Fullerton Avenue\nMontclair\, N
 J 07042
SUMMARY:Our Journeys
URL:https://www.aaartsalliance.org/events/our-journeys-01bd3d10-203a-41b2-9
 491-97a81ae2e084
END:VEVENT
END:VCALENDAR
