BEGIN:VCALENDAR
VERSION:2.0
PRODID:icalendar-ruby
CALSCALE:GREGORIAN
BEGIN:VEVENT
DTSTAMP:20260424T002614Z
UID:3bb544b9-fd06-435e-b24c-01ded6479e08
DTSTART;TZID=Eastern Time (US & Canada):20260430T190000
DTEND;TZID=Eastern Time (US & Canada):20260430T210000
DESCRIPTION:After the Winter break\, Spring has sprung and MIX has been har
 d at work preparing two offerings during the first half of their second se
 ason! As always\, Otaku Choir concerts are free of charge\, but MIX asks t
 hat you consider a suggested donation. So tell your friends\, family\, lov
 ed ones and enemies: The Otaku Choir is BACK for Season 2!  \n
LOCATION:St. Peter's Chelsea\n346 West 20th Street\, New York\, NY 10011\nN
 ew York\, NY 10011
SUMMARY:Other Worlds – A choral recital by MIX (Otaku Choir Small Ensembl
 e)
URL:https://www.aaartsalliance.org/events/other-worlds-a-choral-recital-by-
 mix-otaku-choir-small-ensemble
END:VEVENT
END:VCALENDAR
