BEGIN:VCALENDAR
VERSION:2.0
PRODID:icalendar-ruby
CALSCALE:GREGORIAN
BEGIN:VEVENT
DTSTAMP:20260422T111143Z
UID:79a71e30-612f-491a-ac2f-ba8044524eac
DTSTART;TZID=Eastern Time (US & Canada):20260503T190000
DTEND;TZID=Eastern Time (US & Canada):20260503T220000
DESCRIPTION:New Asia is a sleek\, one-hour variety show starring The Dynast
 ies—an all-Asian\, female-presenting cabaret dance collective. Blending 
 dance and burlesque\, they deliver precision\, allure\, and just the right
  amount of tease while subverting outdated narratives and reclaiming the i
 mage of Asian women with intention and edge.\n
LOCATION:The Red Pavilion \n1241 Flushing Ave\nBrooklyn\, NY 11237
SUMMARY:New Asia starring The Dynasties
URL:https://www.aaartsalliance.org/events/new-asia-starring-the-dynasties-2
 15d4683-32be-4222-ab9f-ec32a52a7156
END:VEVENT
END:VCALENDAR
