BEGIN:VCALENDAR
VERSION:2.0
PRODID:icalendar-ruby
CALSCALE:GREGORIAN
BEGIN:VEVENT
DTSTAMP:20260424T191859Z
UID:b0ab47f4-b964-4e41-9788-5da24d4b6f5e
DTSTART;TZID=Eastern Time (US & Canada):20260515T193000
DTEND;TZID=Eastern Time (US & Canada):20260516T170000
DESCRIPTION:In celebration of Asian American Heritage Month\, the acclaimed
  Nai-Ni Chen Dance Company will present a captivating\, cross-cultural pro
 gram at The CitiGroup Theatre. This season’s concert is a special tribut
 e\, honoring the past by reviving Nai-Ni Chen's *Du*\, honoring the presen
 t by showcasing *Flowing Stream under the Moon Light*\, and looking toward
  the future with Peter Chu's premiere\, *Reflections of a Ripple*.\n
LOCATION:Alvin Ailey Citigroup Theatre\n405 W 55th St.\nNew York\, NY 10019
SUMMARY:Nai-Ni Chen Dance Company: 2026 Asian American Heritage Month Perfo
 rmances
URL:https://www.aaartsalliance.org/events/nai-ni-chen-dance-company-announc
 es-2026-asian-american-heritage-month-performances
END:VEVENT
END:VCALENDAR
