BEGIN:VCALENDAR
VERSION:2.0
PRODID:icalendar-ruby
CALSCALE:GREGORIAN
BEGIN:VEVENT
DTSTAMP:20260421T172458Z
UID:3e1661c6-a5f3-43dc-8cf9-2755d7254bfc
DTSTART;TZID=Eastern Time (US & Canada):20260516T120000
DTEND;TZID=Eastern Time (US & Canada):20260516T150000
DESCRIPTION:Join Soomi Kim and Dax Valdes for their inaugural movement work
 shop\, an all-levels space for artists across disciplines — theatre make
 rs\, directors\, actors\, dancers\, and beyond. Through guided prompts and
  somatic exercises\, they’ll explore how to translate text into movement
  and gesture\, building a physical vocabulary that can expand into perform
 ance.\n
LOCATION:Open Arts Studio\n68 Jay Street\, 605A (6th floor)\nBrooklyn\, NY 
 11201
SUMMARY:Movement Workshop with Soomi Kim & Dax Valdes
URL:https://www.aaartsalliance.org/events/movement-workshop-with-soomi-kim-
 dax-valdes-may-16th
END:VEVENT
END:VCALENDAR
