BEGIN:VCALENDAR
VERSION:2.0
PRODID:icalendar-ruby
CALSCALE:GREGORIAN
BEGIN:VEVENT
DTSTAMP:20260422T105957Z
UID:ad2d7e96-1e9f-42de-b09d-8312978d4612
DTSTART;TZID=Eastern Time (US & Canada):20260610T170000
DTEND;TZID=Eastern Time (US & Canada):20260612T190000
DESCRIPTION:Lincoln Center's Opening Weekend of Summer for the City continu
 es with *Inayat: A Duet for Four*. A thoroughly unique dance performance\,
  the work merges two ancient north Indian performance traditions: Rajastha
 ni folk music and classical Kathak. Featuring expert musicians Sadiq Khan\
 , Asin Khan\, and Zakir Khan Langa (collectively known as SAZ)\; young vir
 tuoso dancer Tarini Tripathi\; and a storyline bound together by Divya Bha
 tia\, Inayat offers freshly choreographed pieces in Kathak\, set entirely 
 to traditional songs of the Langa community from the deserts of western Ra
 jasthan and select kavit of Kathak—performed outdoors for audiences to e
 njoy.\n
LOCATION:Lincoln Center\n30 Lincoln Center Plaza\, New York\, NY 10023\nNew
  York\, NY 10023
SUMMARY:Inayat: A Duet for Four
URL:https://www.aaartsalliance.org/events/lincoln-center-summer-for-the-cit
 y-presents-inayat-a-duet-for-four
END:VEVENT
END:VCALENDAR
