BEGIN:VCALENDAR
VERSION:2.0
PRODID:icalendar-ruby
CALSCALE:GREGORIAN
BEGIN:VEVENT
DTSTAMP:20260419T154144Z
UID:cc2f4d2e-73dc-4fcc-b482-ad173e006fbb
DTSTART;TZID=Eastern Time (US & Canada):20260507T190000
DTEND;TZID=Eastern Time (US & Canada):20260507T220000
DESCRIPTION:Lammeh is hosting a family-style seated dinner with Arab pop mu
 sic featuring Palestinian pop artist Lour Yasin. Wine and a non-alcoholic 
 pairing are included.\n
LOCATION:Apollo\n27 Allen Street\nNew York\, NY 10002
SUMMARY:Lammeh Dinner ft. Lour Yasin
URL:https://www.aaartsalliance.org/events/lammeh-dinner-ft-lour-yasin
END:VEVENT
END:VCALENDAR
