BEGIN:VCALENDAR
VERSION:2.0
PRODID:icalendar-ruby
CALSCALE:GREGORIAN
BEGIN:VEVENT
DTSTAMP:20260424T064246Z
UID:e3c7617c-8587-4a5d-945b-849a030a2287
DTSTART;TZID=Eastern Time (US & Canada):20260501T183000
DTEND;TZID=Eastern Time (US & Canada):20260501T210000
DESCRIPTION:Be a part of Inlight's first ever Film Showcase: *Emerging Voic
 es Awards!* Inlight has selected 9 bold\, original works from creatives ac
 ross NYC.\n
LOCATION:NYU Tisch School of the Arts \n721 Broadway\nNew York\, NY 10003
SUMMARY:Inlight Film Showcase
URL:https://www.aaartsalliance.org/events/inlight-film-showcase
END:VEVENT
END:VCALENDAR
