BEGIN:VCALENDAR
VERSION:2.0
PRODID:icalendar-ruby
CALSCALE:GREGORIAN
BEGIN:VEVENT
DTSTAMP:20260421T222410Z
UID:92dc2d1a-3f35-4765-bb3a-b0029b32978e
DTSTART;TZID=Eastern Time (US & Canada):20260502T190000
DTEND;TZID=Eastern Time (US & Canada):20260502T210000
DESCRIPTION:New Asia Chamber Music Society’s Annual Mother’s Day Concer
 t is a celebration of love\, gratitude\, and remembrance. This year’s pr
 ogram is dedicated to the memory of Patsy Fang Chen\, a cherished supporte
 r and mentor whose warmth and generosity touched countless lives in our co
 mmunity.\n
LOCATION:Cary Hall of The DiMenna Center for Classical Music\n450 West 37th
  Street\nNew York\, NY  10018
SUMMARY:In Gratitude And Grace: A Mother’s Day Concert
URL:https://www.aaartsalliance.org/events/in-gratitude-and-grace-a-mother-s
 -day-concert
END:VEVENT
END:VCALENDAR
