BEGIN:VCALENDAR
VERSION:2.0
PRODID:icalendar-ruby
CALSCALE:GREGORIAN
BEGIN:VEVENT
DTSTAMP:20260423T225437Z
UID:eb5b8e75-f511-48c4-a664-63540e764ce4
DTSTART;TZID=Eastern Time (US & Canada):20260503T140000
DTEND;TZID=Eastern Time (US & Canada):20260503T160000
DESCRIPTION:Join MAQET on Sunday\, May 3\, at Woodbine for an ICE OUT Commu
 nity Art Build! They'll be creating posters and banners to put on apartmen
 t doors/store fronts/workplaces and to bring to protests. They will also b
 e folding zines and packing ICE OUT whistle blowing kits. This will be hel
 d in conjunction with MAQET's art exhibition *Doorjambs: Home and Borders*
 .\n
LOCATION:Woodbine NYC\n414 Broadway\, 3rd Floor\nNew York City\, NY 10013
SUMMARY:ICE OUT Community Art Build + Art Exhibition
URL:https://www.aaartsalliance.org/events/ice-out-community-art-build-art-e
 xhibition
END:VEVENT
END:VCALENDAR
