BEGIN:VCALENDAR
VERSION:2.0
PRODID:icalendar-ruby
CALSCALE:GREGORIAN
BEGIN:VEVENT
DTSTAMP:20260421T201408Z
UID:26f53b48-03b9-4dcb-8cb4-099f5ba33497
DTSTART;TZID=Eastern Time (US & Canada):20260519T000000
DTEND;TZID=Eastern Time (US & Canada):20260519T213000
DESCRIPTION:Celebrating the US Semiquincentennial and Taiwanese American He
 ritage Week\, Taiwan Philharmonic proudly presents "From Formosa\," a prem
 ier cultural diplomacy tour showcasing Taiwan’s rich musical tapestry. L
 ed by Concertmaster Hao-Tun Teng and an elite chamber ensemble\, the perfo
 rmance features acclaimed pianist Chun-Chieh Yen and the soulful voices of
  the TBT (Taiwu Ballads Troupe).\n
LOCATION:Merkin Hall at Kaufman Music Center\n129 West 67th Street\nNew Yor
 k\, NY 10023
SUMMARY:From Formosa: Taiwan Philharmonic Chamber Ensemble 2026 US Tour
URL:https://www.aaartsalliance.org/events/from-formosa-taiwan-philharmonic-
 chamber-ensemble-2026-us-tour
END:VEVENT
END:VCALENDAR
