BEGIN:VCALENDAR
VERSION:2.0
PRODID:icalendar-ruby
CALSCALE:GREGORIAN
BEGIN:VEVENT
DTSTAMP:20260421T184839Z
UID:3abb5f35-6b2d-4074-975e-09154500a6b9
DTSTART;TZID=Eastern Time (US & Canada):20260517T150000
DTEND;TZID=Eastern Time (US & Canada):20260517T170000
DESCRIPTION:Celebrating “America250” and Taiwanese American Heritage We
 ek\, Taiwan Philharmonic proudly presents "From Formosa\," a premier cultu
 ral diplomacy tour showcasing Taiwan’s rich musical tapestry. Led by Con
 certmaster Hao-Tun Teng and an elite chamber ensemble\, the performance fe
 atures acclaimed pianist Chun-Chieh Yen and the soulful voices of the TBT 
 (Taiwu Ballads Troupe).\n
LOCATION:Camelback Bible Church\n3900 E Stanford Dr\nParadise Valley\, AZ 8
 5253
SUMMARY:From Formosa: Taiwan Philharmonic Chamber Ensemble 2026 US Tour
URL:https://www.aaartsalliance.org/events/from-formosa-taiwan-philharmonic-
 chamber-ensemble-2026-us-tour-25ebfc03-b2b1-41f6-9d64-8c1c81ca4ecb
END:VEVENT
END:VCALENDAR
