BEGIN:VCALENDAR
VERSION:2.0
PRODID:icalendar-ruby
CALSCALE:GREGORIAN
BEGIN:VEVENT
DTSTAMP:20260421T172734Z
UID:55cdbe04-1376-4100-ac0f-625f4967f174
DTSTART;TZID=Eastern Time (US & Canada):20260504T190000
DTEND;TZID=Eastern Time (US & Canada):20260504T203000
DESCRIPTION:**A4 members use discount code SEVEN**\; plus\, a limited numbe
 r of **free tickets** will be offered to newsletter subscribers. Send @kat
 eriggnyc a DM on Instagram with your email address to claim!\n
LOCATION:Joe's Pub The Public Theater\n425 Lafayette Street\nNew York\, NY
SUMMARY:disOrientalism Part 9: Lucky Numbers
URL:https://www.aaartsalliance.org/events/disorientalism-part-9-lucky-numbe
 rs
END:VEVENT
END:VCALENDAR
