BEGIN:VCALENDAR
VERSION:2.0
PRODID:icalendar-ruby
CALSCALE:GREGORIAN
BEGIN:VEVENT
DTSTAMP:20260422T124052Z
UID:064547a7-312a-4b00-9a62-995966c009f1
DTSTART;TZID=Eastern Time (US & Canada):20260620T190000
DTEND;TZID=Eastern Time (US & Canada):20260621T153000
DESCRIPTION:The Japanese Folk Dance Institute of New York presents *Dance o
 f Woven Water*\, an immersive performance rooted in traditional Asian folk
  dance practices\, drawing inspiration from coastal and maritime rituals h
 istorically performed by sailors and seaside communities.\n
LOCATION:BMCC Tribeca Performing Arts Center\n199 Chambers Street\nNew York
 \, NY 10007
SUMMARY:Dances of Woven Water
URL:https://www.aaartsalliance.org/events/dances-of-woven-water
END:VEVENT
END:VCALENDAR
