BEGIN:VCALENDAR
VERSION:2.0
PRODID:icalendar-ruby
CALSCALE:GREGORIAN
BEGIN:VEVENT
DTSTAMP:20260422T042652Z
UID:a72bc4ad-2e8d-40f4-90a7-4571d1b23d69
DTSTART;TZID=Eastern Time (US & Canada):20260425T130000
DTEND;TZID=Eastern Time (US & Canada):20260425T173000
DESCRIPTION:Creative Pathway — A panel\, a conversation\, and a room buil
 t for you.\n
LOCATION:Sixth Floor Loft\n873 Broadway\nNew York\, NY 10003
SUMMARY:Creative Pathway
URL:https://www.aaartsalliance.org/events/creative-pathway
END:VEVENT
END:VCALENDAR
