BEGIN:VCALENDAR
VERSION:2.0
PRODID:icalendar-ruby
CALSCALE:GREGORIAN
BEGIN:VEVENT
DTSTAMP:20260425T001821Z
UID:48898ae1-337f-4fd7-85e3-e919512ff912
DTSTART;TZID=Eastern Time (US & Canada):20260502T000000
DTEND;TZID=Eastern Time (US & Canada):20260530T000000
DESCRIPTION:AHL Foundation is pleased to present Blue Blue Blue\, a solo ex
 hibition by New York–based artist Jean Oh\, on view from May 2 through M
 ay 30\, 2026\, at AHL Foundation Gallery. The opening reception will take 
 place on **Saturday\, May 2\, from 6–8 PM.**\n
LOCATION:AHL Foundation Gallery\n2605 Frederick Douglass Boulevard #C1\nNew
  York\, NY 10030
SUMMARY:Blue Blue Blue\, a Solo Exhibition by Jean Oh
URL:https://www.aaartsalliance.org/events/blue-blue-blue-a-solo-exhibition-
 by-jean-oh
END:VEVENT
END:VCALENDAR
