BEGIN:VCALENDAR
VERSION:2.0
PRODID:icalendar-ruby
CALSCALE:GREGORIAN
BEGIN:VEVENT
DTSTAMP:20260424T082004Z
UID:696847c7-cfa4-4065-8710-267b562d7753
DTSTART;TZID=Eastern Time (US & Canada):20260506T183000
DTEND;TZID=Eastern Time (US & Canada):20260506T203000
DESCRIPTION:Ashley Lam is an Executive Director at BNP Paribas\, with 15 ye
 ars of experience in financial technology\, compliance\, and operational r
 isk. She's also the author of *Wrapped with Love: Wonton Noodle Day with G
 randma*—a debut children's picture book she created for her daughter and
  her mother\, all while raising three kids and without a publishing backgr
 ound.\n
LOCATION:NYC venue details to be shared with registrants approximately one 
 week before the event\nNew York\, NY
SUMMARY:Beyond the Pages: How Ashley Lam bridges corporate success and cult
 ural legacy through storytelling
URL:https://www.aaartsalliance.org/events/beyond-the-pages-how-ashley-lam-b
 ridges-corporate-success-and-cultural-legacy-through-storytelling
END:VEVENT
END:VCALENDAR
