BEGIN:VCALENDAR
VERSION:2.0
PRODID:icalendar-ruby
CALSCALE:GREGORIAN
BEGIN:VEVENT
DTSTAMP:20260420T171352Z
UID:b6616317-44da-4628-999a-fbaba1f658ac
DTSTART;TZID=Eastern Time (US & Canada):20260426T140000
DTEND;TZID=Eastern Time (US & Canada):20260426T160000
DESCRIPTION:This April\, Between the Bars welcomes Paige Su 蘇珮卿 with 
 a workshop like you’ve never experienced before.\n
LOCATION:Manhattan Elite Club\n225 West 34th Street\nNew York\, NY 10122
SUMMARY:Between The Bars | Paige Su\, singer-songwriter\, harp\, bansuri\, 
 bass/guitar
URL:https://www.aaartsalliance.org/events/between-the-bars-paige-su-singer-
 songwriter-harp-bansuri-bass-guitar
END:VEVENT
END:VCALENDAR
