BEGIN:VCALENDAR
VERSION:2.0
PRODID:icalendar-ruby
CALSCALE:GREGORIAN
BEGIN:VEVENT
DTSTAMP:20260422T035845Z
UID:7cb80873-e3d3-499b-93be-c2ee17e3adcf
DTSTART;TZID=Eastern Time (US & Canada):20260508T160000
DTEND;TZID=Eastern Time (US & Canada):20260509T170000
DESCRIPTION:Attention // Distraction is an exhibition presented by Undergro
 und Art And Design (UAAD). It explores misplaced and mediated attention th
 rough installations\, net art\, live video game performance and artist tal
 ks.\n
LOCATION:THE BLANC\n15 E 40th St\nNew York\, NY 10016
SUMMARY:Attention//Distraction: The Exhibition
URL:https://www.aaartsalliance.org/events/attention-distraction-the-exhibit
 ion
END:VEVENT
END:VCALENDAR
