BEGIN:VCALENDAR
VERSION:2.0
PRODID:icalendar-ruby
CALSCALE:GREGORIAN
BEGIN:VEVENT
DTSTAMP:20260421T184829Z
UID:88c64ac7-fdde-4420-a3de-b1d3c71d43a9
DTSTART;TZID=Eastern Time (US & Canada):20260505T000000
DTEND;TZID=Eastern Time (US & Canada):20260507T000000
DESCRIPTION:Asian Comedy Fest is returning for its 7th year in NYC from May
  5-7th. The festival takes over Asian-owned Sugar Mouse for three nights\,
  featuring 70+ Asian and Pacific Islander performers across six curated sh
 ows spanning stand-up\, improv\, puppetry\, and alt comedy. This year’s 
 lineup includes Aaron Chen\, Youngmi Mayer\, Sureni Weerasekera\, James To
 m\, Kathleen Kim\, Mic Nguyen\, Michael Cruz Kayne\, Adam Mamawala\, and A
 sian AF\, along with mix of emerging voices.\n
LOCATION:Sugar Mouse\n47 3rd Avenue\nNew York\, NY 10003
SUMMARY:Asian Comedy Fest
URL:https://www.aaartsalliance.org/events/asian-comedy-fest
END:VEVENT
END:VCALENDAR
