BEGIN:VCALENDAR
VERSION:2.0
PRODID:icalendar-ruby
CALSCALE:GREGORIAN
BEGIN:VEVENT
DTSTAMP:20260422T091547Z
UID:8411de99-182c-43f1-bcf1-831864b8821d
DTSTART;TZID=Eastern Time (US & Canada):20260604T210000
DTEND;TZID=Eastern Time (US & Canada):20260604T230000
DESCRIPTION:Asian American Arts Alliance (A4) is excited to kick off Pride 
 month with the AAPI Pride Variety Show\, a night celebrating queer AAPI pe
 rformance across drag\, comedy\, dance\, and more!\n
LOCATION:Red Pavilion\n1241 Flushing Avenue\nBrooklyn\, NY 11237
SUMMARY:AAPI Pride Variety Show
URL:https://www.aaartsalliance.org/events/aapi-pride-variety-show
END:VEVENT
END:VCALENDAR
