BEGIN:VCALENDAR
VERSION:2.0
PRODID:icalendar-ruby
CALSCALE:GREGORIAN
BEGIN:VEVENT
DTSTAMP:20260421T204615Z
UID:02da9eda-aa94-4580-b308-4e77b31626fd
DTSTART;TZID=Eastern Time (US & Canada):20260422T200000
DESCRIPTION:An Evening of Resonance: Chamber Music\, Classical Bel Canto\, 
 and Original Pop Music\n
LOCATION:Merkin Hall Kaufman Music Center Abraham Goodman House \n129 West 
 67th Street\nNew York\, NY 10023
SUMMARY:A Triple-Genre Benefit Concert
URL:https://www.aaartsalliance.org/events/a-triple-genre-benefit-concert
END:VEVENT
END:VCALENDAR
